BEGIN:VCALENDAR
VERSION:2.0
PRODID:-//Sparta Rugby - ECPv6.15.20//NONSGML v1.0//EN
CALSCALE:GREGORIAN
METHOD:PUBLISH
X-WR-CALNAME:Sparta Rugby
X-ORIGINAL-URL:https://spartarugby.cz
X-WR-CALDESC:Akce na Sparta Rugby
REFRESH-INTERVAL;VALUE=DURATION:PT1H
X-Robots-Tag:noindex
X-PUBLISHED-TTL:PT1H
BEGIN:VTIMEZONE
TZID:Europe/Prague
BEGIN:DAYLIGHT
TZOFFSETFROM:+0100
TZOFFSETTO:+0200
TZNAME:CEST
DTSTART:20250330T010000
END:DAYLIGHT
BEGIN:STANDARD
TZOFFSETFROM:+0200
TZOFFSETTO:+0100
TZNAME:CET
DTSTART:20251026T010000
END:STANDARD
BEGIN:DAYLIGHT
TZOFFSETFROM:+0100
TZOFFSETTO:+0200
TZNAME:CEST
DTSTART:20260329T010000
END:DAYLIGHT
BEGIN:STANDARD
TZOFFSETFROM:+0200
TZOFFSETTO:+0100
TZNAME:CET
DTSTART:20261025T010000
END:STANDARD
BEGIN:DAYLIGHT
TZOFFSETFROM:+0100
TZOFFSETTO:+0200
TZNAME:CEST
DTSTART:20270328T010000
END:DAYLIGHT
BEGIN:STANDARD
TZOFFSETFROM:+0200
TZOFFSETTO:+0100
TZNAME:CET
DTSTART:20271031T010000
END:STANDARD
END:VTIMEZONE
BEGIN:VEVENT
DTSTART;TZID=Europe/Prague:20260316T183000
DTEND;TZID=Europe/Prague:20260316T193000
DTSTAMP:20260426T050515
CREATED:20260104T010627Z
LAST-MODIFIED:20260316T115030Z
UID:10005440-1773685800-1773689400@spartarugby.cz
SUMMARY:Trénink (Atletika)
DESCRIPTION:
URL:https://spartarugby.cz/udalost/trenink-atletika-284/
LOCATION:hřiště RC Sparta Praha\, Kovanecká 2405/27\, Praha 9 - Libeň\, Praha\, 19000\, Česká republika
CATEGORIES:U14
END:VEVENT
BEGIN:VEVENT
DTSTART;TZID=Europe/Prague:20260312T173000
DTEND;TZID=Europe/Prague:20260312T190000
DTSTAMP:20260426T050516
CREATED:20260104T010626Z
LAST-MODIFIED:20260312T110546Z
UID:10005439-1773336600-1773342000@spartarugby.cz
SUMMARY:Trénink (Rugby)
DESCRIPTION:
URL:https://spartarugby.cz/udalost/trenink-rugby-1268/
LOCATION:hřiště RC Sparta Praha\, Kovanecká 2405/27\, Praha 9 - Libeň\, Praha\, 19000\, Česká republika
CATEGORIES:U14
END:VEVENT
BEGIN:VEVENT
DTSTART;TZID=Europe/Prague:20260310T173000
DTEND;TZID=Europe/Prague:20260310T190000
DTSTAMP:20260426T050516
CREATED:20260104T010625Z
LAST-MODIFIED:20260310T115227Z
UID:10005438-1773163800-1773169200@spartarugby.cz
SUMMARY:Trénink (Rugby)
DESCRIPTION:
URL:https://spartarugby.cz/udalost/trenink-rugby-1267/
LOCATION:hřiště RC Sparta Praha\, Kovanecká 2405/27\, Praha 9 - Libeň\, Praha\, 19000\, Česká republika
CATEGORIES:U14
END:VEVENT
BEGIN:VEVENT
DTSTART;TZID=Europe/Prague:20260309T183000
DTEND;TZID=Europe/Prague:20260309T193000
DTSTAMP:20260426T050516
CREATED:20260104T010625Z
LAST-MODIFIED:20260309T110520Z
UID:10005437-1773081000-1773084600@spartarugby.cz
SUMMARY:Trénink (Atletika)
DESCRIPTION:
URL:https://spartarugby.cz/udalost/trenink-atletika-283/
LOCATION:hřiště RC Sparta Praha\, Kovanecká 2405/27\, Praha 9 - Libeň\, Praha\, 19000\, Česká republika
CATEGORIES:U14
END:VEVENT
BEGIN:VEVENT
DTSTART;TZID=Europe/Prague:20260307T140000
DTEND;TZID=Europe/Prague:20260307T160000
DTSTAMP:20260426T050516
CREATED:20260307T102044Z
LAST-MODIFIED:20260307T113615Z
UID:10005680-1772892000-1772899200@spartarugby.cz
SUMMARY:Rugby Club Sparta Praha - Rugby klub Petrovice
DESCRIPTION:
URL:https://spartarugby.cz/udalost/rugby-club-sparta-praha-rugby-klub-petrovice-5/
LOCATION:nafukovací hala Arena Sparta
CATEGORIES:U14
END:VEVENT
BEGIN:VEVENT
DTSTART;TZID=Europe/Prague:20260305T173000
DTEND;TZID=Europe/Prague:20260305T190000
DTSTAMP:20260426T050516
CREATED:20260104T010624Z
LAST-MODIFIED:20260305T112018Z
UID:10005436-1772731800-1772737200@spartarugby.cz
SUMMARY:Trénink (Rugby)
DESCRIPTION:
URL:https://spartarugby.cz/udalost/trenink-rugby-1266/
LOCATION:hřiště RC Sparta Praha\, Kovanecká 2405/27\, Praha 9 - Libeň\, Praha\, 19000\, Česká republika
CATEGORIES:U14
END:VEVENT
BEGIN:VEVENT
DTSTART;TZID=Europe/Prague:20260303T173000
DTEND;TZID=Europe/Prague:20260303T190000
DTSTAMP:20260426T050516
CREATED:20260104T010623Z
LAST-MODIFIED:20260303T115110Z
UID:10005435-1772559000-1772564400@spartarugby.cz
SUMMARY:Trénink (Rugby)
DESCRIPTION:
URL:https://spartarugby.cz/udalost/trenink-rugby-1265/
LOCATION:hřiště RC Sparta Praha\, Kovanecká 2405/27\, Praha 9 - Libeň\, Praha\, 19000\, Česká republika
CATEGORIES:U14
END:VEVENT
BEGIN:VEVENT
DTSTART;TZID=Europe/Prague:20260302T183000
DTEND;TZID=Europe/Prague:20260302T193000
DTSTAMP:20260426T050516
CREATED:20260104T010623Z
LAST-MODIFIED:20260302T112100Z
UID:10005434-1772476200-1772479800@spartarugby.cz
SUMMARY:Trénink (Atletika)
DESCRIPTION:
URL:https://spartarugby.cz/udalost/trenink-atletika-282/
LOCATION:hřiště RC Sparta Praha\, Kovanecká 2405/27\, Praha 9 - Libeň\, Praha\, 19000\, Česká republika
CATEGORIES:U14
END:VEVENT
BEGIN:VEVENT
DTSTART;TZID=Europe/Prague:20260226T173000
DTEND;TZID=Europe/Prague:20260226T190000
DTSTAMP:20260426T050516
CREATED:20260104T010622Z
LAST-MODIFIED:20260226T120554Z
UID:10005433-1772127000-1772132400@spartarugby.cz
SUMMARY:Trénink (Rugby)
DESCRIPTION:
URL:https://spartarugby.cz/udalost/trenink-rugby-1264/
LOCATION:hřiště RC Sparta Praha\, Kovanecká 2405/27\, Praha 9 - Libeň\, Praha\, 19000\, Česká republika
CATEGORIES:U14
END:VEVENT
BEGIN:VEVENT
DTSTART;TZID=Europe/Prague:20260224T173000
DTEND;TZID=Europe/Prague:20260224T190000
DTSTAMP:20260426T050516
CREATED:20260104T010622Z
LAST-MODIFIED:20260224T115057Z
UID:10005432-1771954200-1771959600@spartarugby.cz
SUMMARY:Trénink (Rugby)
DESCRIPTION:
URL:https://spartarugby.cz/udalost/trenink-rugby-1263/
LOCATION:hřiště RC Sparta Praha\, Kovanecká 2405/27\, Praha 9 - Libeň\, Praha\, 19000\, Česká republika
CATEGORIES:U14
END:VEVENT
BEGIN:VEVENT
DTSTART;TZID=Europe/Prague:20260223T183000
DTEND;TZID=Europe/Prague:20260223T193000
DTSTAMP:20260426T050516
CREATED:20260104T010622Z
LAST-MODIFIED:20260223T112022Z
UID:10005431-1771871400-1771875000@spartarugby.cz
SUMMARY:Trénink (Atletika)
DESCRIPTION:
URL:https://spartarugby.cz/udalost/trenink-atletika-281/
LOCATION:hřiště RC Sparta Praha\, Kovanecká 2405/27\, Praha 9 - Libeň\, Praha\, 19000\, Česká republika
CATEGORIES:U14
END:VEVENT
BEGIN:VEVENT
DTSTART;TZID=Europe/Prague:20260219T173000
DTEND;TZID=Europe/Prague:20260219T190000
DTSTAMP:20260426T050516
CREATED:20260104T010621Z
LAST-MODIFIED:20260218T115032Z
UID:10005430-1771522200-1771527600@spartarugby.cz
SUMMARY:Trénink (Rugby)
DESCRIPTION:
URL:https://spartarugby.cz/udalost/trenink-rugby-1262/
LOCATION:hřiště RC Sparta Praha\, Kovanecká 2405/27\, Praha 9 - Libeň\, Praha\, 19000\, Česká republika
CATEGORIES:U14
END:VEVENT
BEGIN:VEVENT
DTSTART;TZID=Europe/Prague:20260217T173000
DTEND;TZID=Europe/Prague:20260217T190000
DTSTAMP:20260426T050516
CREATED:20260104T010620Z
LAST-MODIFIED:20260217T112035Z
UID:10005429-1771349400-1771354800@spartarugby.cz
SUMMARY:Trénink (Rugby)
DESCRIPTION:
URL:https://spartarugby.cz/udalost/trenink-rugby-1261/
LOCATION:hřiště RC Sparta Praha\, Kovanecká 2405/27\, Praha 9 - Libeň\, Praha\, 19000\, Česká republika
CATEGORIES:U14
END:VEVENT
BEGIN:VEVENT
DTSTART;TZID=Europe/Prague:20260216T183000
DTEND;TZID=Europe/Prague:20260216T193000
DTSTAMP:20260426T050516
CREATED:20260104T010620Z
LAST-MODIFIED:20260216T115034Z
UID:10005428-1771266600-1771270200@spartarugby.cz
SUMMARY:Trénink (Atletika)
DESCRIPTION:
URL:https://spartarugby.cz/udalost/trenink-atletika-280/
LOCATION:hřiště RC Sparta Praha\, Kovanecká 2405/27\, Praha 9 - Libeň\, Praha\, 19000\, Česká republika
CATEGORIES:U14
END:VEVENT
BEGIN:VEVENT
DTSTART;TZID=Europe/Prague:20260212T173000
DTEND;TZID=Europe/Prague:20260212T190000
DTSTAMP:20260426T050516
CREATED:20260104T010619Z
LAST-MODIFIED:20260212T105049Z
UID:10005427-1770917400-1770922800@spartarugby.cz
SUMMARY:Trénink (Rugby)
DESCRIPTION:
URL:https://spartarugby.cz/udalost/trenink-rugby-1260/
LOCATION:hřiště RC Sparta Praha\, Kovanecká 2405/27\, Praha 9 - Libeň\, Praha\, 19000\, Česká republika
CATEGORIES:U14
END:VEVENT
BEGIN:VEVENT
DTSTART;TZID=Europe/Prague:20260210T173000
DTEND;TZID=Europe/Prague:20260210T190000
DTSTAMP:20260426T050516
CREATED:20260104T010618Z
LAST-MODIFIED:20260210T170601Z
UID:10005426-1770744600-1770750000@spartarugby.cz
SUMMARY:Trénink (Rugby)
DESCRIPTION:
URL:https://spartarugby.cz/udalost/trenink-rugby-1259/
LOCATION:hřiště RC Sparta Praha\, Kovanecká 2405/27\, Praha 9 - Libeň\, Praha\, 19000\, Česká republika
CATEGORIES:U14
END:VEVENT
BEGIN:VEVENT
DTSTART;TZID=Europe/Prague:20260209T183000
DTEND;TZID=Europe/Prague:20260209T193000
DTSTAMP:20260426T050516
CREATED:20260104T010618Z
LAST-MODIFIED:20260209T112023Z
UID:10005425-1770661800-1770665400@spartarugby.cz
SUMMARY:Trénink (Atletika)
DESCRIPTION:
URL:https://spartarugby.cz/udalost/trenink-atletika-279/
LOCATION:hřiště RC Sparta Praha\, Kovanecká 2405/27\, Praha 9 - Libeň\, Praha\, 19000\, Česká republika
CATEGORIES:U14
END:VEVENT
BEGIN:VEVENT
DTSTART;TZID=Europe/Prague:20260207T093000
DTEND;TZID=Europe/Prague:20260207T150000
DTSTAMP:20260426T050516
CREATED:20260202T122019Z
LAST-MODIFIED:20260207T122035Z
UID:10005628-1770456600-1770476400@spartarugby.cz
SUMMARY:Regionální SCM U12
DESCRIPTION:Jde o třetí víkendový sraz Regionálních sportovních center mládeže pro českou část v Praze na Markétě. Jsou vybraní nejlepší hráči všech klubů a během celého dne projdou teorii\, zúčastní se tréninku a tréninkového utkání. Detailní program přikládáme. \nZe Sparty bylo v U12 nominováno jen 6 hráčů\, prosím potvrďte účast do 2.2.2026. \nTeplý oběd bude na místě za 250\,- v hotovosti.
URL:https://spartarugby.cz/udalost/regionalni-scm-u12/
LOCATION:Národní stadion Markéta
CATEGORIES:Muži A,Trenéři,U10,U12,U14,U16,U18,U6,U8,Ženy a dívky
END:VEVENT
BEGIN:VEVENT
DTSTART;TZID=Europe/Prague:20260205T173000
DTEND;TZID=Europe/Prague:20260205T190000
DTSTAMP:20260426T050516
CREATED:20260104T010617Z
LAST-MODIFIED:20260205T110556Z
UID:10005424-1770312600-1770318000@spartarugby.cz
SUMMARY:Trénink (Rugby)
DESCRIPTION:
URL:https://spartarugby.cz/udalost/trenink-rugby-1258/
LOCATION:hřiště RC Sparta Praha\, Kovanecká 2405/27\, Praha 9 - Libeň\, Praha\, 19000\, Česká republika
CATEGORIES:U14
END:VEVENT
BEGIN:VEVENT
DTSTART;TZID=Europe/Prague:20260203T173000
DTEND;TZID=Europe/Prague:20260203T190000
DTSTAMP:20260426T050516
CREATED:20260104T010617Z
LAST-MODIFIED:20260203T115050Z
UID:10005423-1770139800-1770145200@spartarugby.cz
SUMMARY:Trénink (Rugby)
DESCRIPTION:
URL:https://spartarugby.cz/udalost/trenink-rugby-1257/
LOCATION:hřiště RC Sparta Praha\, Kovanecká 2405/27\, Praha 9 - Libeň\, Praha\, 19000\, Česká republika
CATEGORIES:U14
END:VEVENT
BEGIN:VEVENT
DTSTART;TZID=Europe/Prague:20260202T183000
DTEND;TZID=Europe/Prague:20260202T193000
DTSTAMP:20260426T050516
CREATED:20260104T010616Z
LAST-MODIFIED:20260202T182107Z
UID:10005422-1770057000-1770060600@spartarugby.cz
SUMMARY:Trénink (Atletika)
DESCRIPTION:
URL:https://spartarugby.cz/udalost/trenink-atletika-278/
LOCATION:hřiště RC Sparta Praha\, Kovanecká 2405/27\, Praha 9 - Libeň\, Praha\, 19000\, Česká republika
CATEGORIES:U14
END:VEVENT
BEGIN:VEVENT
DTSTART;TZID=Europe/Prague:20260129T173000
DTEND;TZID=Europe/Prague:20260129T190000
DTSTAMP:20260426T050516
CREATED:20260104T010615Z
LAST-MODIFIED:20260129T173642Z
UID:10005421-1769707800-1769713200@spartarugby.cz
SUMMARY:Trénink (Rugby)
DESCRIPTION:
URL:https://spartarugby.cz/udalost/trenink-rugby-1256/
LOCATION:hřiště RC Sparta Praha\, Kovanecká 2405/27\, Praha 9 - Libeň\, Praha\, 19000\, Česká republika
CATEGORIES:U14
END:VEVENT
BEGIN:VEVENT
DTSTART;TZID=Europe/Prague:20260127T173000
DTEND;TZID=Europe/Prague:20260127T190000
DTSTAMP:20260426T050516
CREATED:20260104T010614Z
LAST-MODIFIED:20260127T110604Z
UID:10005420-1769535000-1769540400@spartarugby.cz
SUMMARY:Trénink (Rugby)
DESCRIPTION:
URL:https://spartarugby.cz/udalost/trenink-rugby-1255/
LOCATION:hřiště RC Sparta Praha\, Kovanecká 2405/27\, Praha 9 - Libeň\, Praha\, 19000\, Česká republika
CATEGORIES:U14
END:VEVENT
BEGIN:VEVENT
DTSTART;TZID=Europe/Prague:20260127T173000
DTEND;TZID=Europe/Prague:20260127T183000
DTSTAMP:20260426T050516
CREATED:20260103T010507Z
LAST-MODIFIED:20260127T120611Z
UID:10005409-1769535000-1769538600@spartarugby.cz
SUMMARY:schůzka rodičů U12-U14
DESCRIPTION:
URL:https://spartarugby.cz/udalost/schuzka-rodicu-u12-u14/
LOCATION:Klubovna RC Sparta
CATEGORIES:Muži A,Trenéři,U10,U12,U14,U16,U18,U6,U8,Ženy a dívky
END:VEVENT
BEGIN:VEVENT
DTSTART;TZID=Europe/Prague:20260126T183000
DTEND;TZID=Europe/Prague:20260126T193000
DTSTAMP:20260426T050516
CREATED:20260104T010613Z
LAST-MODIFIED:20260126T112017Z
UID:10005419-1769452200-1769455800@spartarugby.cz
SUMMARY:Trénink (Atletika)
DESCRIPTION:
URL:https://spartarugby.cz/udalost/trenink-atletika-277/
LOCATION:hřiště RC Sparta Praha\, Kovanecká 2405/27\, Praha 9 - Libeň\, Praha\, 19000\, Česká republika
CATEGORIES:U14
END:VEVENT
BEGIN:VEVENT
DTSTART;TZID=Europe/Prague:20260122T173000
DTEND;TZID=Europe/Prague:20260122T190000
DTSTAMP:20260426T050516
CREATED:20260104T010612Z
LAST-MODIFIED:20260122T115051Z
UID:10005418-1769103000-1769108400@spartarugby.cz
SUMMARY:Trénink (Rugby)
DESCRIPTION:
URL:https://spartarugby.cz/udalost/trenink-rugby-1254/
LOCATION:hřiště RC Sparta Praha\, Kovanecká 2405/27\, Praha 9 - Libeň\, Praha\, 19000\, Česká republika
CATEGORIES:U14
END:VEVENT
BEGIN:VEVENT
DTSTART;TZID=Europe/Prague:20260122T173000
DTEND;TZID=Europe/Prague:20260122T183000
DTSTAMP:20260426T050516
CREATED:20260103T010507Z
LAST-MODIFIED:20260122T120522Z
UID:10005408-1769103000-1769106600@spartarugby.cz
SUMMARY:schůzka rodičů U6-U10
DESCRIPTION:
URL:https://spartarugby.cz/udalost/schuzka-rodicu-u6-u10/
LOCATION:Klubovna RC Sparta
CATEGORIES:Muži A,Trenéři,U10,U12,U14,U16,U18,U6,U8,Ženy a dívky
END:VEVENT
BEGIN:VEVENT
DTSTART;TZID=Europe/Prague:20260120T173000
DTEND;TZID=Europe/Prague:20260120T190000
DTSTAMP:20260426T050516
CREATED:20260104T010610Z
LAST-MODIFIED:20260120T112057Z
UID:10005417-1768930200-1768935600@spartarugby.cz
SUMMARY:Trénink (Rugby)
DESCRIPTION:
URL:https://spartarugby.cz/udalost/trenink-rugby-1253/
LOCATION:hřiště RC Sparta Praha\, Kovanecká 2405/27\, Praha 9 - Libeň\, Praha\, 19000\, Česká republika
CATEGORIES:U14
END:VEVENT
BEGIN:VEVENT
DTSTART;TZID=Europe/Prague:20260119T183000
DTEND;TZID=Europe/Prague:20260119T193000
DTSTAMP:20260426T050516
CREATED:20260104T010610Z
LAST-MODIFIED:20260119T110556Z
UID:10005416-1768847400-1768851000@spartarugby.cz
SUMMARY:Trénink (Atletika)
DESCRIPTION:
URL:https://spartarugby.cz/udalost/trenink-atletika-276/
LOCATION:hřiště RC Sparta Praha\, Kovanecká 2405/27\, Praha 9 - Libeň\, Praha\, 19000\, Česká republika
CATEGORIES:U14
END:VEVENT
BEGIN:VEVENT
DTSTART;TZID=Europe/Prague:20260118T000000
DTEND;TZID=Europe/Prague:20260124T000000
DTSTAMP:20260426T050516
CREATED:20250826T010517Z
LAST-MODIFIED:20260123T115104Z
UID:10005068-1768694400-1769212800@spartarugby.cz
SUMMARY:zimní soustředění
DESCRIPTION:Podmínky zimního soustředění: \nPřihlásit se může hráč kategorie U14\, v případě\, že nebude kapacita penzionu naplněna bude doplněno kategorií U12 \nUmí lyžovat (zvládne sjet kopec a vyjet vlek – kotvu na lyžích)
URL:https://spartarugby.cz/udalost/zimni-soustredeni/
LOCATION:Penzion Erlebach Strážné
CATEGORIES:Muži A,Trenéři,U10,U12,U14,U16,U18,U6,U8,Ženy a dívky
END:VEVENT
END:VCALENDAR