BEGIN:VCALENDAR
VERSION:2.0
PRODID:-//Sparta Rugby - ECPv6.15.20//NONSGML v1.0//EN
CALSCALE:GREGORIAN
METHOD:PUBLISH
X-WR-CALNAME:Sparta Rugby
X-ORIGINAL-URL:https://spartarugby.cz
X-WR-CALDESC:Akce na Sparta Rugby
REFRESH-INTERVAL;VALUE=DURATION:PT1H
X-Robots-Tag:noindex
X-PUBLISHED-TTL:PT1H
BEGIN:VTIMEZONE
TZID:Europe/Prague
BEGIN:DAYLIGHT
TZOFFSETFROM:+0100
TZOFFSETTO:+0200
TZNAME:CEST
DTSTART:20240331T010000
END:DAYLIGHT
BEGIN:STANDARD
TZOFFSETFROM:+0200
TZOFFSETTO:+0100
TZNAME:CET
DTSTART:20241027T010000
END:STANDARD
BEGIN:DAYLIGHT
TZOFFSETFROM:+0100
TZOFFSETTO:+0200
TZNAME:CEST
DTSTART:20250330T010000
END:DAYLIGHT
BEGIN:STANDARD
TZOFFSETFROM:+0200
TZOFFSETTO:+0100
TZNAME:CET
DTSTART:20251026T010000
END:STANDARD
BEGIN:DAYLIGHT
TZOFFSETFROM:+0100
TZOFFSETTO:+0200
TZNAME:CEST
DTSTART:20260329T010000
END:DAYLIGHT
BEGIN:STANDARD
TZOFFSETFROM:+0200
TZOFFSETTO:+0100
TZNAME:CET
DTSTART:20261025T010000
END:STANDARD
BEGIN:DAYLIGHT
TZOFFSETFROM:+0100
TZOFFSETTO:+0200
TZNAME:CEST
DTSTART:20270328T010000
END:DAYLIGHT
BEGIN:STANDARD
TZOFFSETFROM:+0200
TZOFFSETTO:+0100
TZNAME:CET
DTSTART:20271031T010000
END:STANDARD
END:VTIMEZONE
BEGIN:VEVENT
DTSTART;TZID=Europe/Prague:20260122T173000
DTEND;TZID=Europe/Prague:20260122T183000
DTSTAMP:20260426T050602
CREATED:20260103T010507Z
LAST-MODIFIED:20260122T120522Z
UID:10005408-1769103000-1769106600@spartarugby.cz
SUMMARY:schůzka rodičů U6-U10
DESCRIPTION:
URL:https://spartarugby.cz/udalost/schuzka-rodicu-u6-u10/
LOCATION:Klubovna RC Sparta
CATEGORIES:Muži A,Trenéři,U10,U12,U14,U16,U18,U6,U8,Ženy a dívky
END:VEVENT
BEGIN:VEVENT
DTSTART;TZID=Europe/Prague:20260120T173000
DTEND;TZID=Europe/Prague:20260120T190000
DTSTAMP:20260426T050603
CREATED:20260104T010610Z
LAST-MODIFIED:20260120T112057Z
UID:10005417-1768930200-1768935600@spartarugby.cz
SUMMARY:Trénink (Rugby)
DESCRIPTION:
URL:https://spartarugby.cz/udalost/trenink-rugby-1253/
LOCATION:hřiště RC Sparta Praha\, Kovanecká 2405/27\, Praha 9 - Libeň\, Praha\, 19000\, Česká republika
CATEGORIES:U14
END:VEVENT
BEGIN:VEVENT
DTSTART;TZID=Europe/Prague:20260119T183000
DTEND;TZID=Europe/Prague:20260119T193000
DTSTAMP:20260426T050603
CREATED:20260104T010610Z
LAST-MODIFIED:20260119T110556Z
UID:10005416-1768847400-1768851000@spartarugby.cz
SUMMARY:Trénink (Atletika)
DESCRIPTION:
URL:https://spartarugby.cz/udalost/trenink-atletika-276/
LOCATION:hřiště RC Sparta Praha\, Kovanecká 2405/27\, Praha 9 - Libeň\, Praha\, 19000\, Česká republika
CATEGORIES:U14
END:VEVENT
BEGIN:VEVENT
DTSTART;TZID=Europe/Prague:20260118T000000
DTEND;TZID=Europe/Prague:20260124T000000
DTSTAMP:20260426T050603
CREATED:20250826T010517Z
LAST-MODIFIED:20260123T115104Z
UID:10005068-1768694400-1769212800@spartarugby.cz
SUMMARY:zimní soustředění
DESCRIPTION:Podmínky zimního soustředění: \nPřihlásit se může hráč kategorie U14\, v případě\, že nebude kapacita penzionu naplněna bude doplněno kategorií U12 \nUmí lyžovat (zvládne sjet kopec a vyjet vlek – kotvu na lyžích)
URL:https://spartarugby.cz/udalost/zimni-soustredeni/
LOCATION:Penzion Erlebach Strážné
CATEGORIES:Muži A,Trenéři,U10,U12,U14,U16,U18,U6,U8,Ženy a dívky
END:VEVENT
BEGIN:VEVENT
DTSTART;TZID=Europe/Prague:20260117T093000
DTEND;TZID=Europe/Prague:20260117T150000
DTSTAMP:20260426T050603
CREATED:20260113T010532Z
LAST-MODIFIED:20260117T122025Z
UID:10005606-1768642200-1768662000@spartarugby.cz
SUMMARY:Regionální sportovní centrum mládeže U12
DESCRIPTION:Jde o druhý víkendový sraz Regionálních sportovních center mládeže pro českou část v Praze na Markétě. Jsou vybraní nejlepší hráči všech klubů a během celého dne projdou teorii\, zúčastní se tréninku a tréninkového utkání. Detailní program přikládáme. \nZe Sparty byl v U12 nominován jen omezený počet hráčů\, prosím potvrďte účast co nejdřív. \nTeplý oběd bude na místě za 250\,- v hotovosti.
URL:https://spartarugby.cz/udalost/regionalni-sportovni-centrum-mladeze-u12-2/
LOCATION:Národní stadion Markéta
CATEGORIES:Muži A,Trenéři,U10,U12,U14,U16,U18,U6,U8,Ženy a dívky
END:VEVENT
BEGIN:VEVENT
DTSTART;TZID=Europe/Prague:20260115T190000
DTEND;TZID=Europe/Prague:20260115T200000
DTSTAMP:20260426T050603
CREATED:20260103T010505Z
LAST-MODIFIED:20260115T115031Z
UID:10005407-1768503600-1768507200@spartarugby.cz
SUMMARY:schůzka trenérů U6-U14
DESCRIPTION:
URL:https://spartarugby.cz/udalost/schuzka-treneru-u6-u14-2/
LOCATION:Klubovna RC Sparta
CATEGORIES:Muži A,Trenéři,U10,U12,U14,U16,U18,U6,U8,Ženy a dívky
END:VEVENT
BEGIN:VEVENT
DTSTART;TZID=Europe/Prague:20260115T173000
DTEND;TZID=Europe/Prague:20260115T190000
DTSTAMP:20260426T050603
CREATED:20260104T010609Z
LAST-MODIFIED:20260115T110639Z
UID:10005415-1768498200-1768503600@spartarugby.cz
SUMMARY:Trénink (Rugby)
DESCRIPTION:
URL:https://spartarugby.cz/udalost/trenink-rugby-1252/
LOCATION:hřiště RC Sparta Praha\, Kovanecká 2405/27\, Praha 9 - Libeň\, Praha\, 19000\, Česká republika
CATEGORIES:U14
END:VEVENT
BEGIN:VEVENT
DTSTART;TZID=Europe/Prague:20260113T173000
DTEND;TZID=Europe/Prague:20260113T190000
DTSTAMP:20260426T050603
CREATED:20260104T010608Z
LAST-MODIFIED:20260113T110549Z
UID:10005414-1768325400-1768330800@spartarugby.cz
SUMMARY:Trénink (Rugby)
DESCRIPTION:
URL:https://spartarugby.cz/udalost/trenink-rugby-1251/
LOCATION:hřiště RC Sparta Praha\, Kovanecká 2405/27\, Praha 9 - Libeň\, Praha\, 19000\, Česká republika
CATEGORIES:U14
END:VEVENT
BEGIN:VEVENT
DTSTART;TZID=Europe/Prague:20260112T183000
DTEND;TZID=Europe/Prague:20260112T193000
DTSTAMP:20260426T050603
CREATED:20260104T010608Z
LAST-MODIFIED:20260112T123518Z
UID:10005413-1768242600-1768246200@spartarugby.cz
SUMMARY:Trénink (Atletika)
DESCRIPTION:
URL:https://spartarugby.cz/udalost/trenink-atletika-275/
LOCATION:hřiště RC Sparta Praha\, Kovanecká 2405/27\, Praha 9 - Libeň\, Praha\, 19000\, Česká republika
CATEGORIES:U14
END:VEVENT
BEGIN:VEVENT
DTSTART;TZID=Europe/Prague:20260108T173000
DTEND;TZID=Europe/Prague:20260108T190000
DTSTAMP:20260426T050603
CREATED:20260104T010607Z
LAST-MODIFIED:20260108T115035Z
UID:10005412-1767893400-1767898800@spartarugby.cz
SUMMARY:Trénink (Rugby)
DESCRIPTION:
URL:https://spartarugby.cz/udalost/trenink-rugby-1250/
LOCATION:hřiště RC Sparta Praha\, Kovanecká 2405/27\, Praha 9 - Libeň\, Praha\, 19000\, Česká republika
CATEGORIES:U14
END:VEVENT
BEGIN:VEVENT
DTSTART;TZID=Europe/Prague:20260106T173000
DTEND;TZID=Europe/Prague:20260106T190000
DTSTAMP:20260426T050603
CREATED:20260104T010606Z
LAST-MODIFIED:20260106T112043Z
UID:10005411-1767720600-1767726000@spartarugby.cz
SUMMARY:Trénink (Rugby)
DESCRIPTION:
URL:https://spartarugby.cz/udalost/trenink-rugby-1249/
LOCATION:hřiště RC Sparta Praha\, Kovanecká 2405/27\, Praha 9 - Libeň\, Praha\, 19000\, Česká republika
CATEGORIES:U14
END:VEVENT
BEGIN:VEVENT
DTSTART;TZID=Europe/Prague:20260105T183000
DTEND;TZID=Europe/Prague:20260105T193000
DTSTAMP:20260426T050603
CREATED:20260104T010606Z
LAST-MODIFIED:20260105T110608Z
UID:10005410-1767637800-1767641400@spartarugby.cz
SUMMARY:Trénink (Atletika)
DESCRIPTION:
URL:https://spartarugby.cz/udalost/trenink-atletika-274/
LOCATION:hřiště RC Sparta Praha\, Kovanecká 2405/27\, Praha 9 - Libeň\, Praha\, 19000\, Česká republika
CATEGORIES:U14
END:VEVENT
BEGIN:VEVENT
DTSTART;TZID=Europe/Prague:20251218T173000
DTEND;TZID=Europe/Prague:20251218T190000
DTSTAMP:20260426T050603
CREATED:20251128T020621Z
LAST-MODIFIED:20251218T113616Z
UID:10005249-1766079000-1766084400@spartarugby.cz
SUMMARY:Trénink (Rugby)
DESCRIPTION:
URL:https://spartarugby.cz/udalost/trenink-rugby-1141/
LOCATION:nafukovací hala Arena Sparta
CATEGORIES:U14
END:VEVENT
BEGIN:VEVENT
DTSTART;TZID=Europe/Prague:20251216T173000
DTEND;TZID=Europe/Prague:20251216T190000
DTSTAMP:20260426T050603
CREATED:20251128T020620Z
LAST-MODIFIED:20251216T103531Z
UID:10005248-1765906200-1765911600@spartarugby.cz
SUMMARY:Trénink (Rugby)
DESCRIPTION:
URL:https://spartarugby.cz/udalost/trenink-rugby-1140/
LOCATION:nafukovací hala Arena Sparta
CATEGORIES:U14
END:VEVENT
BEGIN:VEVENT
DTSTART;TZID=Europe/Prague:20251215T183000
DTEND;TZID=Europe/Prague:20251215T193000
DTSTAMP:20260426T050603
CREATED:20251128T020620Z
LAST-MODIFIED:20251215T115039Z
UID:10005247-1765823400-1765827000@spartarugby.cz
SUMMARY:Trénink (Atletika)
DESCRIPTION:
URL:https://spartarugby.cz/udalost/trenink-atletika-244/
LOCATION:nafukovací hala Arena Sparta
CATEGORIES:U14
END:VEVENT
BEGIN:VEVENT
DTSTART;TZID=Europe/Prague:20251214T093000
DTEND;TZID=Europe/Prague:20251214T150000
DTSTAMP:20260426T050603
CREATED:20251204T123541Z
LAST-MODIFIED:20251214T123517Z
UID:10005291-1765704600-1765724400@spartarugby.cz
SUMMARY:Regionální sportovní centrum mládeže U12
DESCRIPTION:Jde o víkendový sraz Regionálních sportovních center mládeže pro českou část v Praze na Markétě na téma „Individální obrana-skládka“. Jsou vybraní nejlepší hráči všech klubů a během celého dne projdou teorii\, zúčastní se tréninku a tréninkového utkání. Detailní program přikládáme: \n \nZe Sparty bylo v U12 nominováno jen 10 vybraných hráčů\, prosím potvrďte účast co nejdřív. \nO možnosti oběda na místě se ještě jedná\, dáme vědět obratem. \n 
URL:https://spartarugby.cz/udalost/regionalni-sportovni-centrum-mladeze-u12/
LOCATION:Národní stadion Markéta
CATEGORIES:Muži A,Trenéři,U10,U12,U14,U16,U18,U6,U8,Ženy a dívky
END:VEVENT
BEGIN:VEVENT
DTSTART;TZID=Europe/Prague:20251211T173000
DTEND;TZID=Europe/Prague:20251211T190000
DTSTAMP:20260426T050603
CREATED:20251128T020619Z
LAST-MODIFIED:20251211T113540Z
UID:10005246-1765474200-1765479600@spartarugby.cz
SUMMARY:Trénink (Rugby)
DESCRIPTION:
URL:https://spartarugby.cz/udalost/trenink-rugby-1139/
LOCATION:nafukovací hala Arena Sparta
CATEGORIES:U14
END:VEVENT
BEGIN:VEVENT
DTSTART;TZID=Europe/Prague:20251209T173000
DTEND;TZID=Europe/Prague:20251209T190000
DTSTAMP:20260426T050603
CREATED:20251128T020619Z
LAST-MODIFIED:20251209T115107Z
UID:10005245-1765301400-1765306800@spartarugby.cz
SUMMARY:Trénink (Rugby)
DESCRIPTION:
URL:https://spartarugby.cz/udalost/trenink-rugby-1138/
LOCATION:nafukovací hala Arena Sparta
CATEGORIES:U14
END:VEVENT
BEGIN:VEVENT
DTSTART;TZID=Europe/Prague:20251208T183000
DTEND;TZID=Europe/Prague:20251208T193000
DTSTAMP:20260426T050603
CREATED:20251128T020619Z
LAST-MODIFIED:20251208T115027Z
UID:10005244-1765218600-1765222200@spartarugby.cz
SUMMARY:Trénink (Atletika)
DESCRIPTION:
URL:https://spartarugby.cz/udalost/trenink-atletika-243/
LOCATION:nafukovací hala Arena Sparta
CATEGORIES:U14
END:VEVENT
BEGIN:VEVENT
DTSTART;TZID=Europe/Prague:20251204T173000
DTEND;TZID=Europe/Prague:20251204T190000
DTSTAMP:20260426T050603
CREATED:20251128T020618Z
LAST-MODIFIED:20251204T123544Z
UID:10005243-1764869400-1764874800@spartarugby.cz
SUMMARY:Trénink (Rugby)
DESCRIPTION:
URL:https://spartarugby.cz/udalost/trenink-rugby-1137/
LOCATION:nafukovací hala Arena Sparta
CATEGORIES:U14
END:VEVENT
BEGIN:VEVENT
DTSTART;TZID=Europe/Prague:20251202T173000
DTEND;TZID=Europe/Prague:20251202T190000
DTSTAMP:20260426T050603
CREATED:20251128T020617Z
LAST-MODIFIED:20251202T105136Z
UID:10005242-1764696600-1764702000@spartarugby.cz
SUMMARY:Trénink (Rugby)
DESCRIPTION:
URL:https://spartarugby.cz/udalost/trenink-rugby-1136/
LOCATION:nafukovací hala Arena Sparta
CATEGORIES:U14
END:VEVENT
BEGIN:VEVENT
DTSTART;TZID=Europe/Prague:20251201T183000
DTEND;TZID=Europe/Prague:20251201T193000
DTSTAMP:20260426T050603
CREATED:20251128T020617Z
LAST-MODIFIED:20251201T115031Z
UID:10005241-1764613800-1764617400@spartarugby.cz
SUMMARY:Trénink (Atletika)
DESCRIPTION:
URL:https://spartarugby.cz/udalost/trenink-atletika-242/
LOCATION:nafukovací hala Arena Sparta
CATEGORIES:U14
END:VEVENT
BEGIN:VEVENT
DTSTART;TZID=Europe/Prague:20251128T170000
DTEND;TZID=Europe/Prague:20251130T140000
DTSTAMP:20260426T050603
CREATED:20251113T102020Z
LAST-MODIFIED:20251130T125036Z
UID:10005220-1764349200-1764511200@spartarugby.cz
SUMMARY:Soustředění Rokytnice 2025
DESCRIPTION:
URL:https://spartarugby.cz/udalost/soustredeni-rokytnice-2025/
LOCATION:Horní Rokytnice 37\, 512 44 Rokytnice nad Jizerou 1
CATEGORIES:Muži A,Trenéři,U10,U12,U14,U16,U18,U6,U8,Ženy a dívky
END:VEVENT
BEGIN:VEVENT
DTSTART;TZID=Europe/Prague:20251127T173000
DTEND;TZID=Europe/Prague:20251127T190000
DTSTAMP:20260426T050603
CREATED:20251127T060600Z
LAST-MODIFIED:20251127T105113Z
UID:10005240-1764264600-1764270000@spartarugby.cz
SUMMARY:Trénink (Rugby)
DESCRIPTION:
URL:https://spartarugby.cz/udalost/trenink-rugby-1135/
LOCATION:nafukovací hala Arena Sparta
CATEGORIES:U14
END:VEVENT
BEGIN:VEVENT
DTSTART;TZID=Europe/Prague:20251124T183000
DTEND;TZID=Europe/Prague:20251124T193000
DTSTAMP:20260426T050603
CREATED:20251124T010523Z
LAST-MODIFIED:20251124T113546Z
UID:10005228-1764009000-1764012600@spartarugby.cz
SUMMARY:Trénink (Atletika)
DESCRIPTION:
URL:https://spartarugby.cz/udalost/trenink-atletika-241/
LOCATION:nafukovací hala Arena Sparta
CATEGORIES:U14
END:VEVENT
BEGIN:VEVENT
DTSTART;TZID=Europe/Prague:20251120T173000
DTEND;TZID=Europe/Prague:20251120T190000
DTSTAMP:20260426T050603
CREATED:20250826T010620Z
LAST-MODIFIED:20251120T112104Z
UID:10005094-1763659800-1763665200@spartarugby.cz
SUMMARY:Trénink (Rugby)
DESCRIPTION:
URL:https://spartarugby.cz/udalost/trenink-rugby-1072/
LOCATION:hřiště RC Sparta Praha\, Kovanecká 2405/27\, Praha 9 - Libeň\, Praha\, 19000\, Česká republika
CATEGORIES:U14
END:VEVENT
BEGIN:VEVENT
DTSTART;TZID=Europe/Prague:20251118T173000
DTEND;TZID=Europe/Prague:20251118T190000
DTSTAMP:20260426T050603
CREATED:20250826T010620Z
LAST-MODIFIED:20251118T122026Z
UID:10005093-1763487000-1763492400@spartarugby.cz
SUMMARY:Trénink (Rugby)
DESCRIPTION:
URL:https://spartarugby.cz/udalost/trenink-rugby-1071/
LOCATION:hřiště RC Sparta Praha\, Kovanecká 2405/27\, Praha 9 - Libeň\, Praha\, 19000\, Česká republika
CATEGORIES:U14
END:VEVENT
BEGIN:VEVENT
DTSTART;TZID=Europe/Prague:20251117T183000
DTEND;TZID=Europe/Prague:20251117T193000
DTSTAMP:20260426T050603
CREATED:20250903T100538Z
LAST-MODIFIED:20251117T110612Z
UID:10005194-1763404200-1763407800@spartarugby.cz
SUMMARY:Trénink (Atletika)
DESCRIPTION:
URL:https://spartarugby.cz/udalost/trenink-atletika-239/
LOCATION:hřiště RC Sparta Praha\, Kovanecká 2405/27\, Praha 9 - Libeň\, Praha\, 19000\, Česká republika
CATEGORIES:U14
END:VEVENT
BEGIN:VEVENT
DTSTART;TZID=Europe/Prague:20251113T173000
DTEND;TZID=Europe/Prague:20251113T190000
DTSTAMP:20260426T050603
CREATED:20250826T010619Z
LAST-MODIFIED:20251113T112043Z
UID:10005092-1763055000-1763060400@spartarugby.cz
SUMMARY:Trénink (Rugby)
DESCRIPTION:
URL:https://spartarugby.cz/udalost/trenink-rugby-1070/
LOCATION:hřiště RC Sparta Praha\, Kovanecká 2405/27\, Praha 9 - Libeň\, Praha\, 19000\, Česká republika
CATEGORIES:U14
END:VEVENT
BEGIN:VEVENT
DTSTART;TZID=Europe/Prague:20251111T173000
DTEND;TZID=Europe/Prague:20251111T190000
DTSTAMP:20260426T050603
CREATED:20250826T010618Z
LAST-MODIFIED:20251111T110555Z
UID:10005091-1762882200-1762887600@spartarugby.cz
SUMMARY:Trénink (Rugby)
DESCRIPTION:
URL:https://spartarugby.cz/udalost/trenink-rugby-1069/
LOCATION:hřiště RC Sparta Praha\, Kovanecká 2405/27\, Praha 9 - Libeň\, Praha\, 19000\, Česká republika
CATEGORIES:U14
END:VEVENT
END:VCALENDAR