BEGIN:VCALENDAR
VERSION:2.0
PRODID:-//Sparta Rugby - ECPv6.15.20//NONSGML v1.0//EN
CALSCALE:GREGORIAN
METHOD:PUBLISH
X-ORIGINAL-URL:https://spartarugby.cz
X-WR-CALDESC:Akce na Sparta Rugby
REFRESH-INTERVAL;VALUE=DURATION:PT1H
X-Robots-Tag:noindex
X-PUBLISHED-TTL:PT1H
BEGIN:VTIMEZONE
TZID:Europe/Prague
BEGIN:DAYLIGHT
TZOFFSETFROM:+0100
TZOFFSETTO:+0200
TZNAME:CEST
DTSTART:20250330T010000
END:DAYLIGHT
BEGIN:STANDARD
TZOFFSETFROM:+0200
TZOFFSETTO:+0100
TZNAME:CET
DTSTART:20251026T010000
END:STANDARD
BEGIN:DAYLIGHT
TZOFFSETFROM:+0100
TZOFFSETTO:+0200
TZNAME:CEST
DTSTART:20260329T010000
END:DAYLIGHT
BEGIN:STANDARD
TZOFFSETFROM:+0200
TZOFFSETTO:+0100
TZNAME:CET
DTSTART:20261025T010000
END:STANDARD
BEGIN:DAYLIGHT
TZOFFSETFROM:+0100
TZOFFSETTO:+0200
TZNAME:CEST
DTSTART:20270328T010000
END:DAYLIGHT
BEGIN:STANDARD
TZOFFSETFROM:+0200
TZOFFSETTO:+0100
TZNAME:CET
DTSTART:20271031T010000
END:STANDARD
END:VTIMEZONE
BEGIN:VEVENT
DTSTART;TZID=Europe/Prague:20260426T133000
DTEND;TZID=Europe/Prague:20260426T153000
DTSTAMP:20260425T191849
CREATED:20260420T010531Z
LAST-MODIFIED:20260425T115053Z
UID:10005811-1777210200-1777217400@spartarugby.cz
SUMMARY:Rugby Club Sparta Praha - Bystrc / Dragon
DESCRIPTION:
URL:https://spartarugby.cz/udalost/rugby-club-sparta-praha-bystrc-dragon/
LOCATION:hřiště RC Sparta Praha\, Kovanecká 2405/27\, Praha 9 - Libeň\, Praha\, 19000\, Česká republika
CATEGORIES:U14
END:VEVENT
BEGIN:VEVENT
DTSTART;TZID=Europe/Prague:20260427T183000
DTEND;TZID=Europe/Prague:20260427T193000
DTSTAMP:20260425T191849
CREATED:20260104T010638Z
LAST-MODIFIED:20260425T115054Z
UID:10005458-1777314600-1777318200@spartarugby.cz
SUMMARY:Trénink (Atletika)
DESCRIPTION:
URL:https://spartarugby.cz/udalost/trenink-atletika-290/
LOCATION:hřiště RC Sparta Praha\, Kovanecká 2405/27\, Praha 9 - Libeň\, Praha\, 19000\, Česká republika
CATEGORIES:U14
END:VEVENT
BEGIN:VEVENT
DTSTART;TZID=Europe/Prague:20260428T173000
DTEND;TZID=Europe/Prague:20260428T190000
DTSTAMP:20260425T191849
CREATED:20260104T010638Z
LAST-MODIFIED:20260425T115054Z
UID:10005459-1777397400-1777402800@spartarugby.cz
SUMMARY:Trénink (Rugby)
DESCRIPTION:
URL:https://spartarugby.cz/udalost/trenink-rugby-1281/
LOCATION:hřiště RC Sparta Praha\, Kovanecká 2405/27\, Praha 9 - Libeň\, Praha\, 19000\, Česká republika
CATEGORIES:U14
END:VEVENT
BEGIN:VEVENT
DTSTART;TZID=Europe/Prague:20260430T173000
DTEND;TZID=Europe/Prague:20260430T190000
DTSTAMP:20260425T191849
CREATED:20260104T010639Z
LAST-MODIFIED:20260425T115054Z
UID:10005460-1777570200-1777575600@spartarugby.cz
SUMMARY:Trénink (Rugby)
DESCRIPTION:
URL:https://spartarugby.cz/udalost/trenink-rugby-1282/
LOCATION:hřiště RC Sparta Praha\, Kovanecká 2405/27\, Praha 9 - Libeň\, Praha\, 19000\, Česká republika
CATEGORIES:U14
END:VEVENT
END:VCALENDAR