BEGIN:VCALENDAR
VERSION:2.0
PRODID:-//Sparta Rugby - ECPv6.15.20//NONSGML v1.0//EN
CALSCALE:GREGORIAN
METHOD:PUBLISH
X-WR-CALNAME:Sparta Rugby
X-ORIGINAL-URL:https://spartarugby.cz
X-WR-CALDESC:Akce na Sparta Rugby
REFRESH-INTERVAL;VALUE=DURATION:PT1H
X-Robots-Tag:noindex
X-PUBLISHED-TTL:PT1H
BEGIN:VTIMEZONE
TZID:Europe/Prague
BEGIN:DAYLIGHT
TZOFFSETFROM:+0100
TZOFFSETTO:+0200
TZNAME:CEST
DTSTART:20250330T010000
END:DAYLIGHT
BEGIN:STANDARD
TZOFFSETFROM:+0200
TZOFFSETTO:+0100
TZNAME:CET
DTSTART:20251026T010000
END:STANDARD
BEGIN:DAYLIGHT
TZOFFSETFROM:+0100
TZOFFSETTO:+0200
TZNAME:CEST
DTSTART:20260329T010000
END:DAYLIGHT
BEGIN:STANDARD
TZOFFSETFROM:+0200
TZOFFSETTO:+0100
TZNAME:CET
DTSTART:20261025T010000
END:STANDARD
BEGIN:DAYLIGHT
TZOFFSETFROM:+0100
TZOFFSETTO:+0200
TZNAME:CEST
DTSTART:20270328T010000
END:DAYLIGHT
BEGIN:STANDARD
TZOFFSETFROM:+0200
TZOFFSETTO:+0100
TZNAME:CET
DTSTART:20271031T010000
END:STANDARD
END:VTIMEZONE
BEGIN:VEVENT
DTSTART;TZID=Europe/Prague:20260819T100000
DTEND;TZID=Europe/Prague:20260823T153000
DTSTAMP:20260426T042604
CREATED:20250826T010517Z
LAST-MODIFIED:20260426T020545Z
UID:10005069-1787133600-1787499000@spartarugby.cz
SUMMARY:soustředění U16 a U18 Nýrsko
DESCRIPTION:
URL:https://spartarugby.cz/udalost/soustredeni-u16-a-u18-nyrsko/
LOCATION:Camp Nýrsko
CATEGORIES:Muži A,Trenéři,U10,U12,U14,U16,U18,U6,U8,Ženy a dívky
END:VEVENT
BEGIN:VEVENT
DTSTART;TZID=Europe/Prague:20260819T160000
DTEND;TZID=Europe/Prague:20260823T100000
DTSTAMP:20260426T042604
CREATED:20260119T010525Z
LAST-MODIFIED:20260426T020546Z
UID:10005610-1787155200-1787479200@spartarugby.cz
SUMMARY:Soustředění Bohutín žáci 2026
DESCRIPTION:
URL:https://spartarugby.cz/udalost/soustredeni-bohutin-zaci-2026/
LOCATION:Hornický penzion Bohutín
CATEGORIES:Muži A,Trenéři,U10,U12,U14,U16,U18,U6,U8,Ženy a dívky
END:VEVENT
END:VCALENDAR