BEGIN:VCALENDAR
VERSION:2.0
PRODID:-//Sparta Rugby - ECPv6.15.20//NONSGML v1.0//EN
CALSCALE:GREGORIAN
METHOD:PUBLISH
X-ORIGINAL-URL:https://spartarugby.cz
X-WR-CALDESC:Akce na Sparta Rugby
REFRESH-INTERVAL;VALUE=DURATION:PT1H
X-Robots-Tag:noindex
X-PUBLISHED-TTL:PT1H
BEGIN:VTIMEZONE
TZID:Europe/Prague
BEGIN:DAYLIGHT
TZOFFSETFROM:+0100
TZOFFSETTO:+0200
TZNAME:CEST
DTSTART:20250330T010000
END:DAYLIGHT
BEGIN:STANDARD
TZOFFSETFROM:+0200
TZOFFSETTO:+0100
TZNAME:CET
DTSTART:20251026T010000
END:STANDARD
BEGIN:DAYLIGHT
TZOFFSETFROM:+0100
TZOFFSETTO:+0200
TZNAME:CEST
DTSTART:20260329T010000
END:DAYLIGHT
BEGIN:STANDARD
TZOFFSETFROM:+0200
TZOFFSETTO:+0100
TZNAME:CET
DTSTART:20261025T010000
END:STANDARD
BEGIN:DAYLIGHT
TZOFFSETFROM:+0100
TZOFFSETTO:+0200
TZNAME:CEST
DTSTART:20270328T010000
END:DAYLIGHT
BEGIN:STANDARD
TZOFFSETFROM:+0200
TZOFFSETTO:+0100
TZNAME:CET
DTSTART:20271031T010000
END:STANDARD
END:VTIMEZONE
BEGIN:VEVENT
DTSTART;TZID=Europe/Prague:20260601T183000
DTEND;TZID=Europe/Prague:20260601T193000
DTSTAMP:20260425T235128
CREATED:20260104T010647Z
LAST-MODIFIED:20260425T115057Z
UID:10005473-1780338600-1780342200@spartarugby.cz
SUMMARY:Trénink (Atletika)
DESCRIPTION:
URL:https://spartarugby.cz/udalost/trenink-atletika-295/
LOCATION:hřiště RC Sparta Praha\, Kovanecká 2405/27\, Praha 9 - Libeň\, Praha\, 19000\, Česká republika
CATEGORIES:U14
END:VEVENT
BEGIN:VEVENT
DTSTART;TZID=Europe/Prague:20260602T173000
DTEND;TZID=Europe/Prague:20260602T190000
DTSTAMP:20260425T235128
CREATED:20260104T010647Z
LAST-MODIFIED:20260425T115057Z
UID:10005474-1780421400-1780426800@spartarugby.cz
SUMMARY:Trénink (Rugby)
DESCRIPTION:
URL:https://spartarugby.cz/udalost/trenink-rugby-1291/
LOCATION:hřiště RC Sparta Praha\, Kovanecká 2405/27\, Praha 9 - Libeň\, Praha\, 19000\, Česká republika
CATEGORIES:U14
END:VEVENT
BEGIN:VEVENT
DTSTART;TZID=Europe/Prague:20260604T173000
DTEND;TZID=Europe/Prague:20260604T190000
DTSTAMP:20260425T235128
CREATED:20260104T010648Z
LAST-MODIFIED:20260425T115057Z
UID:10005475-1780594200-1780599600@spartarugby.cz
SUMMARY:Trénink (Rugby)
DESCRIPTION:
URL:https://spartarugby.cz/udalost/trenink-rugby-1292/
LOCATION:hřiště RC Sparta Praha\, Kovanecká 2405/27\, Praha 9 - Libeň\, Praha\, 19000\, Česká republika
CATEGORIES:U14
END:VEVENT
BEGIN:VEVENT
DTSTART;TZID=Europe/Prague:20260608T183000
DTEND;TZID=Europe/Prague:20260608T193000
DTSTAMP:20260425T235128
CREATED:20260104T010649Z
LAST-MODIFIED:20260425T115057Z
UID:10005476-1780943400-1780947000@spartarugby.cz
SUMMARY:Trénink (Atletika)
DESCRIPTION:
URL:https://spartarugby.cz/udalost/trenink-atletika-296/
LOCATION:hřiště RC Sparta Praha\, Kovanecká 2405/27\, Praha 9 - Libeň\, Praha\, 19000\, Česká republika
CATEGORIES:U14
END:VEVENT
BEGIN:VEVENT
DTSTART;TZID=Europe/Prague:20260609T173000
DTEND;TZID=Europe/Prague:20260609T190000
DTSTAMP:20260425T235128
CREATED:20260104T010649Z
LAST-MODIFIED:20260425T115058Z
UID:10005477-1781026200-1781031600@spartarugby.cz
SUMMARY:Trénink (Rugby)
DESCRIPTION:
URL:https://spartarugby.cz/udalost/trenink-rugby-1293/
LOCATION:hřiště RC Sparta Praha\, Kovanecká 2405/27\, Praha 9 - Libeň\, Praha\, 19000\, Česká republika
CATEGORIES:U14
END:VEVENT
BEGIN:VEVENT
DTSTART;TZID=Europe/Prague:20260611T173000
DTEND;TZID=Europe/Prague:20260611T190000
DTSTAMP:20260425T235128
CREATED:20260104T010650Z
LAST-MODIFIED:20260425T115058Z
UID:10005478-1781199000-1781204400@spartarugby.cz
SUMMARY:Trénink (Rugby)
DESCRIPTION:
URL:https://spartarugby.cz/udalost/trenink-rugby-1294/
LOCATION:hřiště RC Sparta Praha\, Kovanecká 2405/27\, Praha 9 - Libeň\, Praha\, 19000\, Česká republika
CATEGORIES:U14
END:VEVENT
BEGIN:VEVENT
DTSTART;TZID=Europe/Prague:20260615T183000
DTEND;TZID=Europe/Prague:20260615T193000
DTSTAMP:20260425T235128
CREATED:20260104T010650Z
LAST-MODIFIED:20260425T115058Z
UID:10005479-1781548200-1781551800@spartarugby.cz
SUMMARY:Trénink (Atletika)
DESCRIPTION:
URL:https://spartarugby.cz/udalost/trenink-atletika-297/
LOCATION:hřiště RC Sparta Praha\, Kovanecká 2405/27\, Praha 9 - Libeň\, Praha\, 19000\, Česká republika
CATEGORIES:U14
END:VEVENT
BEGIN:VEVENT
DTSTART;TZID=Europe/Prague:20260616T173000
DTEND;TZID=Europe/Prague:20260616T190000
DTSTAMP:20260425T235128
CREATED:20260104T010651Z
LAST-MODIFIED:20260425T115058Z
UID:10005480-1781631000-1781636400@spartarugby.cz
SUMMARY:Trénink (Rugby)
DESCRIPTION:
URL:https://spartarugby.cz/udalost/trenink-rugby-1295/
LOCATION:hřiště RC Sparta Praha\, Kovanecká 2405/27\, Praha 9 - Libeň\, Praha\, 19000\, Česká republika
CATEGORIES:U14
END:VEVENT
BEGIN:VEVENT
DTSTART;TZID=Europe/Prague:20260618T173000
DTEND;TZID=Europe/Prague:20260618T190000
DTSTAMP:20260425T235128
CREATED:20260104T010651Z
LAST-MODIFIED:20260425T115059Z
UID:10005481-1781803800-1781809200@spartarugby.cz
SUMMARY:Trénink (Rugby)
DESCRIPTION:
URL:https://spartarugby.cz/udalost/trenink-rugby-1296/
LOCATION:hřiště RC Sparta Praha\, Kovanecká 2405/27\, Praha 9 - Libeň\, Praha\, 19000\, Česká republika
CATEGORIES:U14
END:VEVENT
END:VCALENDAR