BEGIN:VCALENDAR
VERSION:2.0
PRODID:-//Sparta Rugby - ECPv6.15.20//NONSGML v1.0//EN
CALSCALE:GREGORIAN
METHOD:PUBLISH
X-ORIGINAL-URL:https://spartarugby.cz
X-WR-CALDESC:Akce na Sparta Rugby
REFRESH-INTERVAL;VALUE=DURATION:PT1H
X-Robots-Tag:noindex
X-PUBLISHED-TTL:PT1H
BEGIN:VTIMEZONE
TZID:Europe/Prague
BEGIN:DAYLIGHT
TZOFFSETFROM:+0100
TZOFFSETTO:+0200
TZNAME:CEST
DTSTART:20250330T010000
END:DAYLIGHT
BEGIN:STANDARD
TZOFFSETFROM:+0200
TZOFFSETTO:+0100
TZNAME:CET
DTSTART:20251026T010000
END:STANDARD
BEGIN:DAYLIGHT
TZOFFSETFROM:+0100
TZOFFSETTO:+0200
TZNAME:CEST
DTSTART:20260329T010000
END:DAYLIGHT
BEGIN:STANDARD
TZOFFSETFROM:+0200
TZOFFSETTO:+0100
TZNAME:CET
DTSTART:20261025T010000
END:STANDARD
BEGIN:DAYLIGHT
TZOFFSETFROM:+0100
TZOFFSETTO:+0200
TZNAME:CEST
DTSTART:20270328T010000
END:DAYLIGHT
BEGIN:STANDARD
TZOFFSETFROM:+0200
TZOFFSETTO:+0100
TZNAME:CET
DTSTART:20271031T010000
END:STANDARD
END:VTIMEZONE
BEGIN:VEVENT
DTSTART;TZID=Europe/Prague:20260504T183000
DTEND;TZID=Europe/Prague:20260504T193000
DTSTAMP:20260425T222518
CREATED:20260104T010640Z
LAST-MODIFIED:20260425T115054Z
UID:10005461-1777919400-1777923000@spartarugby.cz
SUMMARY:Trénink (Atletika)
DESCRIPTION:
URL:https://spartarugby.cz/udalost/trenink-atletika-291/
LOCATION:hřiště RC Sparta Praha\, Kovanecká 2405/27\, Praha 9 - Libeň\, Praha\, 19000\, Česká republika
CATEGORIES:U14
END:VEVENT
BEGIN:VEVENT
DTSTART;TZID=Europe/Prague:20260505T173000
DTEND;TZID=Europe/Prague:20260505T190000
DTSTAMP:20260425T222519
CREATED:20260104T010640Z
LAST-MODIFIED:20260425T115055Z
UID:10005462-1778002200-1778007600@spartarugby.cz
SUMMARY:Trénink (Rugby)
DESCRIPTION:
URL:https://spartarugby.cz/udalost/trenink-rugby-1283/
LOCATION:hřiště RC Sparta Praha\, Kovanecká 2405/27\, Praha 9 - Libeň\, Praha\, 19000\, Česká republika
CATEGORIES:U14
END:VEVENT
BEGIN:VEVENT
DTSTART;TZID=Europe/Prague:20260507T173000
DTEND;TZID=Europe/Prague:20260507T190000
DTSTAMP:20260425T222519
CREATED:20260104T010641Z
LAST-MODIFIED:20260425T115055Z
UID:10005463-1778175000-1778180400@spartarugby.cz
SUMMARY:Trénink (Rugby)
DESCRIPTION:
URL:https://spartarugby.cz/udalost/trenink-rugby-1284/
LOCATION:hřiště RC Sparta Praha\, Kovanecká 2405/27\, Praha 9 - Libeň\, Praha\, 19000\, Česká republika
CATEGORIES:U14
END:VEVENT
BEGIN:VEVENT
DTSTART;TZID=Europe/Prague:20260511T183000
DTEND;TZID=Europe/Prague:20260511T193000
DTSTAMP:20260425T222519
CREATED:20260104T010642Z
LAST-MODIFIED:20260425T115055Z
UID:10005464-1778524200-1778527800@spartarugby.cz
SUMMARY:Trénink (Atletika)
DESCRIPTION:
URL:https://spartarugby.cz/udalost/trenink-atletika-292/
LOCATION:hřiště RC Sparta Praha\, Kovanecká 2405/27\, Praha 9 - Libeň\, Praha\, 19000\, Česká republika
CATEGORIES:U14
END:VEVENT
BEGIN:VEVENT
DTSTART;TZID=Europe/Prague:20260512T173000
DTEND;TZID=Europe/Prague:20260512T190000
DTSTAMP:20260425T222519
CREATED:20260104T010642Z
LAST-MODIFIED:20260425T115055Z
UID:10005465-1778607000-1778612400@spartarugby.cz
SUMMARY:Trénink (Rugby)
DESCRIPTION:
URL:https://spartarugby.cz/udalost/trenink-rugby-1285/
LOCATION:hřiště RC Sparta Praha\, Kovanecká 2405/27\, Praha 9 - Libeň\, Praha\, 19000\, Česká republika
CATEGORIES:U14
END:VEVENT
BEGIN:VEVENT
DTSTART;TZID=Europe/Prague:20260514T173000
DTEND;TZID=Europe/Prague:20260514T190000
DTSTAMP:20260425T222519
CREATED:20260104T010643Z
LAST-MODIFIED:20260425T115055Z
UID:10005466-1778779800-1778785200@spartarugby.cz
SUMMARY:Trénink (Rugby)
DESCRIPTION:
URL:https://spartarugby.cz/udalost/trenink-rugby-1286/
LOCATION:hřiště RC Sparta Praha\, Kovanecká 2405/27\, Praha 9 - Libeň\, Praha\, 19000\, Česká republika
CATEGORIES:U14
END:VEVENT
BEGIN:VEVENT
DTSTART;TZID=Europe/Prague:20260518T183000
DTEND;TZID=Europe/Prague:20260518T193000
DTSTAMP:20260425T222519
CREATED:20260104T010643Z
LAST-MODIFIED:20260425T115056Z
UID:10005467-1779129000-1779132600@spartarugby.cz
SUMMARY:Trénink (Atletika)
DESCRIPTION:
URL:https://spartarugby.cz/udalost/trenink-atletika-293/
LOCATION:hřiště RC Sparta Praha\, Kovanecká 2405/27\, Praha 9 - Libeň\, Praha\, 19000\, Česká republika
CATEGORIES:U14
END:VEVENT
BEGIN:VEVENT
DTSTART;TZID=Europe/Prague:20260519T173000
DTEND;TZID=Europe/Prague:20260519T190000
DTSTAMP:20260425T222519
CREATED:20260104T010644Z
LAST-MODIFIED:20260425T115056Z
UID:10005468-1779211800-1779217200@spartarugby.cz
SUMMARY:Trénink (Rugby)
DESCRIPTION:
URL:https://spartarugby.cz/udalost/trenink-rugby-1287/
LOCATION:hřiště RC Sparta Praha\, Kovanecká 2405/27\, Praha 9 - Libeň\, Praha\, 19000\, Česká republika
CATEGORIES:U14
END:VEVENT
BEGIN:VEVENT
DTSTART;TZID=Europe/Prague:20260521T173000
DTEND;TZID=Europe/Prague:20260521T190000
DTSTAMP:20260425T222519
CREATED:20260104T010644Z
LAST-MODIFIED:20260425T115056Z
UID:10005469-1779384600-1779390000@spartarugby.cz
SUMMARY:Trénink (Rugby)
DESCRIPTION:
URL:https://spartarugby.cz/udalost/trenink-rugby-1288/
LOCATION:hřiště RC Sparta Praha\, Kovanecká 2405/27\, Praha 9 - Libeň\, Praha\, 19000\, Česká republika
CATEGORIES:U14
END:VEVENT
BEGIN:VEVENT
DTSTART;TZID=Europe/Prague:20260525T183000
DTEND;TZID=Europe/Prague:20260525T193000
DTSTAMP:20260425T222519
CREATED:20260104T010645Z
LAST-MODIFIED:20260425T115056Z
UID:10005470-1779733800-1779737400@spartarugby.cz
SUMMARY:Trénink (Atletika)
DESCRIPTION:
URL:https://spartarugby.cz/udalost/trenink-atletika-294/
LOCATION:hřiště RC Sparta Praha\, Kovanecká 2405/27\, Praha 9 - Libeň\, Praha\, 19000\, Česká republika
CATEGORIES:U14
END:VEVENT
BEGIN:VEVENT
DTSTART;TZID=Europe/Prague:20260526T173000
DTEND;TZID=Europe/Prague:20260526T190000
DTSTAMP:20260425T222519
CREATED:20260104T010646Z
LAST-MODIFIED:20260425T115056Z
UID:10005471-1779816600-1779822000@spartarugby.cz
SUMMARY:Trénink (Rugby)
DESCRIPTION:
URL:https://spartarugby.cz/udalost/trenink-rugby-1289/
LOCATION:hřiště RC Sparta Praha\, Kovanecká 2405/27\, Praha 9 - Libeň\, Praha\, 19000\, Česká republika
CATEGORIES:U14
END:VEVENT
BEGIN:VEVENT
DTSTART;TZID=Europe/Prague:20260528T173000
DTEND;TZID=Europe/Prague:20260528T190000
DTSTAMP:20260425T222519
CREATED:20260104T010646Z
LAST-MODIFIED:20260425T115057Z
UID:10005472-1779989400-1779994800@spartarugby.cz
SUMMARY:Trénink (Rugby)
DESCRIPTION:
URL:https://spartarugby.cz/udalost/trenink-rugby-1290/
LOCATION:hřiště RC Sparta Praha\, Kovanecká 2405/27\, Praha 9 - Libeň\, Praha\, 19000\, Česká republika
CATEGORIES:U14
END:VEVENT
END:VCALENDAR