BEGIN:VCALENDAR
VERSION:2.0
PRODID:-//Sparta Rugby - ECPv6.15.20//NONSGML v1.0//EN
CALSCALE:GREGORIAN
METHOD:PUBLISH
X-ORIGINAL-URL:https://spartarugby.cz
X-WR-CALDESC:Akce na Sparta Rugby
REFRESH-INTERVAL;VALUE=DURATION:PT1H
X-Robots-Tag:noindex
X-PUBLISHED-TTL:PT1H
BEGIN:VTIMEZONE
TZID:Europe/Prague
BEGIN:DAYLIGHT
TZOFFSETFROM:+0100
TZOFFSETTO:+0200
TZNAME:CEST
DTSTART:20240331T010000
END:DAYLIGHT
BEGIN:STANDARD
TZOFFSETFROM:+0200
TZOFFSETTO:+0100
TZNAME:CET
DTSTART:20241027T010000
END:STANDARD
BEGIN:DAYLIGHT
TZOFFSETFROM:+0100
TZOFFSETTO:+0200
TZNAME:CEST
DTSTART:20250330T010000
END:DAYLIGHT
BEGIN:STANDARD
TZOFFSETFROM:+0200
TZOFFSETTO:+0100
TZNAME:CET
DTSTART:20251026T010000
END:STANDARD
BEGIN:DAYLIGHT
TZOFFSETFROM:+0100
TZOFFSETTO:+0200
TZNAME:CEST
DTSTART:20260329T010000
END:DAYLIGHT
BEGIN:STANDARD
TZOFFSETFROM:+0200
TZOFFSETTO:+0100
TZNAME:CET
DTSTART:20261025T010000
END:STANDARD
END:VTIMEZONE
BEGIN:VEVENT
DTSTART;TZID=Europe/Prague:20251208T173000
DTEND;TZID=Europe/Prague:20251208T183000
DTSTAMP:20260426T050011
CREATED:20251202T010539Z
LAST-MODIFIED:20251208T113528Z
UID:10005255-1765215000-1765218600@spartarugby.cz
SUMMARY:Trénink
DESCRIPTION:
URL:https://spartarugby.cz/udalost/trenink-176/
LOCATION:Národní stadion Markéta
CATEGORIES:U18
END:VEVENT
BEGIN:VEVENT
DTSTART;TZID=Europe/Prague:20251102T123000
DTEND;TZID=Europe/Prague:20251102T153000
DTSTAMP:20260426T050011
CREATED:20251028T010528Z
LAST-MODIFIED:20251102T113539Z
UID:10005217-1762086600-1762097400@spartarugby.cz
SUMMARY:5.rt Olymp
DESCRIPTION:
URL:https://spartarugby.cz/udalost/5-rt-olymp/
LOCATION:Národní stadion Markéta
CATEGORIES:U10
END:VEVENT
END:VCALENDAR