BEGIN:VCALENDAR
VERSION:2.0
PRODID:-//Sparta Rugby - ECPv6.15.20//NONSGML v1.0//EN
CALSCALE:GREGORIAN
METHOD:PUBLISH
X-ORIGINAL-URL:https://spartarugby.cz
X-WR-CALDESC:Akce na Sparta Rugby
REFRESH-INTERVAL;VALUE=DURATION:PT1H
X-Robots-Tag:noindex
X-PUBLISHED-TTL:PT1H
BEGIN:VTIMEZONE
TZID:Europe/Prague
BEGIN:DAYLIGHT
TZOFFSETFROM:+0100
TZOFFSETTO:+0200
TZNAME:CEST
DTSTART:20240331T010000
END:DAYLIGHT
BEGIN:STANDARD
TZOFFSETFROM:+0200
TZOFFSETTO:+0100
TZNAME:CET
DTSTART:20241027T010000
END:STANDARD
BEGIN:DAYLIGHT
TZOFFSETFROM:+0100
TZOFFSETTO:+0200
TZNAME:CEST
DTSTART:20250330T010000
END:DAYLIGHT
BEGIN:STANDARD
TZOFFSETFROM:+0200
TZOFFSETTO:+0100
TZNAME:CET
DTSTART:20251026T010000
END:STANDARD
BEGIN:DAYLIGHT
TZOFFSETFROM:+0100
TZOFFSETTO:+0200
TZNAME:CEST
DTSTART:20260329T010000
END:DAYLIGHT
BEGIN:STANDARD
TZOFFSETFROM:+0200
TZOFFSETTO:+0100
TZNAME:CET
DTSTART:20261025T010000
END:STANDARD
BEGIN:DAYLIGHT
TZOFFSETFROM:+0100
TZOFFSETTO:+0200
TZNAME:CEST
DTSTART:20270328T010000
END:DAYLIGHT
BEGIN:STANDARD
TZOFFSETFROM:+0200
TZOFFSETTO:+0100
TZNAME:CET
DTSTART:20271031T010000
END:STANDARD
END:VTIMEZONE
BEGIN:VEVENT
DTSTART;TZID=Europe/Prague:20260223T173000
DTEND;TZID=Europe/Prague:20260223T183000
DTSTAMP:20260426T031549
CREATED:20260119T080533Z
LAST-MODIFIED:20260223T110520Z
UID:10005617-1771867800-1771871400@spartarugby.cz
SUMMARY:Trénink (Atletika)
DESCRIPTION:
URL:https://spartarugby.cz/udalost/trenink-atletika-303/
LOCATION:Národní stadion Markéta
CATEGORIES:U18
END:VEVENT
BEGIN:VEVENT
DTSTART;TZID=Europe/Prague:20260216T173000
DTEND;TZID=Europe/Prague:20260216T183000
DTSTAMP:20260426T031549
CREATED:20260119T080532Z
LAST-MODIFIED:20260216T113539Z
UID:10005616-1771263000-1771266600@spartarugby.cz
SUMMARY:Trénink (Atletika)
DESCRIPTION:
URL:https://spartarugby.cz/udalost/trenink-atletika-302/
LOCATION:Národní stadion Markéta
CATEGORIES:U18
END:VEVENT
BEGIN:VEVENT
DTSTART;TZID=Europe/Prague:20260209T173000
DTEND;TZID=Europe/Prague:20260209T183000
DTSTAMP:20260426T031549
CREATED:20260119T080531Z
LAST-MODIFIED:20260209T115056Z
UID:10005615-1770658200-1770661800@spartarugby.cz
SUMMARY:Trénink (Atletika)
DESCRIPTION:
URL:https://spartarugby.cz/udalost/trenink-atletika-301/
LOCATION:Národní stadion Markéta
CATEGORIES:U18
END:VEVENT
BEGIN:VEVENT
DTSTART;TZID=Europe/Prague:20260207T093000
DTEND;TZID=Europe/Prague:20260207T150000
DTSTAMP:20260426T031549
CREATED:20260202T122019Z
LAST-MODIFIED:20260207T122035Z
UID:10005628-1770456600-1770476400@spartarugby.cz
SUMMARY:Regionální SCM U12
DESCRIPTION:Jde o třetí víkendový sraz Regionálních sportovních center mládeže pro českou část v Praze na Markétě. Jsou vybraní nejlepší hráči všech klubů a během celého dne projdou teorii\, zúčastní se tréninku a tréninkového utkání. Detailní program přikládáme. \nZe Sparty bylo v U12 nominováno jen 6 hráčů\, prosím potvrďte účast do 2.2.2026. \nTeplý oběd bude na místě za 250\,- v hotovosti.
URL:https://spartarugby.cz/udalost/regionalni-scm-u12/
LOCATION:Národní stadion Markéta
CATEGORIES:Muži A,Trenéři,U10,U12,U14,U16,U18,U6,U8,Ženy a dívky
END:VEVENT
BEGIN:VEVENT
DTSTART;TZID=Europe/Prague:20260202T173000
DTEND;TZID=Europe/Prague:20260202T183000
DTSTAMP:20260426T031549
CREATED:20260119T080530Z
LAST-MODIFIED:20260202T165019Z
UID:10005614-1770053400-1770057000@spartarugby.cz
SUMMARY:Trénink (Atletika)
DESCRIPTION:
URL:https://spartarugby.cz/udalost/trenink-atletika-300/
LOCATION:Národní stadion Markéta
CATEGORIES:U18
END:VEVENT
BEGIN:VEVENT
DTSTART;TZID=Europe/Prague:20260126T173000
DTEND;TZID=Europe/Prague:20260126T183000
DTSTAMP:20260426T031549
CREATED:20260119T080529Z
LAST-MODIFIED:20260126T115055Z
UID:10005613-1769448600-1769452200@spartarugby.cz
SUMMARY:Trénink (Atletika)
DESCRIPTION:
URL:https://spartarugby.cz/udalost/trenink-atletika-299/
LOCATION:Národní stadion Markéta
CATEGORIES:U18
END:VEVENT
BEGIN:VEVENT
DTSTART;TZID=Europe/Prague:20260119T173000
DTEND;TZID=Europe/Prague:20260119T183000
DTSTAMP:20260426T031549
CREATED:20260119T080527Z
LAST-MODIFIED:20260119T115048Z
UID:10005612-1768843800-1768847400@spartarugby.cz
SUMMARY:Trénink (Atletika)
DESCRIPTION:
URL:https://spartarugby.cz/udalost/trenink-atletika-298/
LOCATION:Národní stadion Markéta
CATEGORIES:U18
END:VEVENT
BEGIN:VEVENT
DTSTART;TZID=Europe/Prague:20260117T093000
DTEND;TZID=Europe/Prague:20260117T150000
DTSTAMP:20260426T031549
CREATED:20260113T010532Z
LAST-MODIFIED:20260117T122025Z
UID:10005606-1768642200-1768662000@spartarugby.cz
SUMMARY:Regionální sportovní centrum mládeže U12
DESCRIPTION:Jde o druhý víkendový sraz Regionálních sportovních center mládeže pro českou část v Praze na Markétě. Jsou vybraní nejlepší hráči všech klubů a během celého dne projdou teorii\, zúčastní se tréninku a tréninkového utkání. Detailní program přikládáme. \nZe Sparty byl v U12 nominován jen omezený počet hráčů\, prosím potvrďte účast co nejdřív. \nTeplý oběd bude na místě za 250\,- v hotovosti.
URL:https://spartarugby.cz/udalost/regionalni-sportovni-centrum-mladeze-u12-2/
LOCATION:Národní stadion Markéta
CATEGORIES:Muži A,Trenéři,U10,U12,U14,U16,U18,U6,U8,Ženy a dívky
END:VEVENT
BEGIN:VEVENT
DTSTART;TZID=Europe/Prague:20251215T173000
DTEND;TZID=Europe/Prague:20251215T183000
DTSTAMP:20260426T031549
CREATED:20251202T010541Z
LAST-MODIFIED:20251215T122052Z
UID:10005258-1765819800-1765823400@spartarugby.cz
SUMMARY:Trénink
DESCRIPTION:
URL:https://spartarugby.cz/udalost/trenink-177/
LOCATION:Národní stadion Markéta
CATEGORIES:U18
END:VEVENT
BEGIN:VEVENT
DTSTART;TZID=Europe/Prague:20251214T093000
DTEND;TZID=Europe/Prague:20251214T150000
DTSTAMP:20260426T031549
CREATED:20251204T123541Z
LAST-MODIFIED:20251214T123517Z
UID:10005291-1765704600-1765724400@spartarugby.cz
SUMMARY:Regionální sportovní centrum mládeže U12
DESCRIPTION:Jde o víkendový sraz Regionálních sportovních center mládeže pro českou část v Praze na Markétě na téma „Individální obrana-skládka“. Jsou vybraní nejlepší hráči všech klubů a během celého dne projdou teorii\, zúčastní se tréninku a tréninkového utkání. Detailní program přikládáme: \n \nZe Sparty bylo v U12 nominováno jen 10 vybraných hráčů\, prosím potvrďte účast co nejdřív. \nO možnosti oběda na místě se ještě jedná\, dáme vědět obratem. \n 
URL:https://spartarugby.cz/udalost/regionalni-sportovni-centrum-mladeze-u12/
LOCATION:Národní stadion Markéta
CATEGORIES:Muži A,Trenéři,U10,U12,U14,U16,U18,U6,U8,Ženy a dívky
END:VEVENT
BEGIN:VEVENT
DTSTART;TZID=Europe/Prague:20251208T173000
DTEND;TZID=Europe/Prague:20251208T183000
DTSTAMP:20260426T031549
CREATED:20251202T010539Z
LAST-MODIFIED:20251208T113528Z
UID:10005255-1765215000-1765218600@spartarugby.cz
SUMMARY:Trénink
DESCRIPTION:
URL:https://spartarugby.cz/udalost/trenink-176/
LOCATION:Národní stadion Markéta
CATEGORIES:U18
END:VEVENT
BEGIN:VEVENT
DTSTART;TZID=Europe/Prague:20251102T123000
DTEND;TZID=Europe/Prague:20251102T153000
DTSTAMP:20260426T031549
CREATED:20251028T010528Z
LAST-MODIFIED:20251102T113539Z
UID:10005217-1762086600-1762097400@spartarugby.cz
SUMMARY:5.rt Olymp
DESCRIPTION:
URL:https://spartarugby.cz/udalost/5-rt-olymp/
LOCATION:Národní stadion Markéta
CATEGORIES:U10
END:VEVENT
END:VCALENDAR