BEGIN:VCALENDAR
VERSION:2.0
PRODID:-//Sparta Rugby - ECPv6.15.20//NONSGML v1.0//EN
CALSCALE:GREGORIAN
METHOD:PUBLISH
X-ORIGINAL-URL:https://spartarugby.cz
X-WR-CALDESC:Akce na Sparta Rugby
REFRESH-INTERVAL;VALUE=DURATION:PT1H
X-Robots-Tag:noindex
X-PUBLISHED-TTL:PT1H
BEGIN:VTIMEZONE
TZID:Europe/Prague
BEGIN:DAYLIGHT
TZOFFSETFROM:+0100
TZOFFSETTO:+0200
TZNAME:CEST
DTSTART:20250330T010000
END:DAYLIGHT
BEGIN:STANDARD
TZOFFSETFROM:+0200
TZOFFSETTO:+0100
TZNAME:CET
DTSTART:20251026T010000
END:STANDARD
BEGIN:DAYLIGHT
TZOFFSETFROM:+0100
TZOFFSETTO:+0200
TZNAME:CEST
DTSTART:20260329T010000
END:DAYLIGHT
BEGIN:STANDARD
TZOFFSETFROM:+0200
TZOFFSETTO:+0100
TZNAME:CET
DTSTART:20261025T010000
END:STANDARD
BEGIN:DAYLIGHT
TZOFFSETFROM:+0100
TZOFFSETTO:+0200
TZNAME:CEST
DTSTART:20270328T010000
END:DAYLIGHT
BEGIN:STANDARD
TZOFFSETFROM:+0200
TZOFFSETTO:+0100
TZNAME:CET
DTSTART:20271031T010000
END:STANDARD
END:VTIMEZONE
BEGIN:VEVENT
DTSTART;TZID=Europe/Prague:20260411T080000
DTEND;TZID=Europe/Prague:20260411T163000
DTSTAMP:20260426T031549
CREATED:20260317T010557Z
LAST-MODIFIED:20260411T112047Z
UID:10005692-1775894400-1775925000@spartarugby.cz
SUMMARY:PYRF Petrovice
DESCRIPTION:
URL:https://spartarugby.cz/udalost/pyrf-petrovice-2/
LOCATION:Hřiště RK Petrovice
CATEGORIES:U12
END:VEVENT
BEGIN:VEVENT
DTSTART;TZID=Europe/Prague:20260403T110000
DTEND;TZID=Europe/Prague:20260403T130000
DTSTAMP:20260426T031549
CREATED:20260320T090537Z
LAST-MODIFIED:20260403T105022Z
UID:10005728-1775214000-1775221200@spartarugby.cz
SUMMARY:Rugby klub Petrovice - Rugby Club Sparta Praha
DESCRIPTION:
URL:https://spartarugby.cz/udalost/rugby-klub-petrovice-rugby-club-sparta-praha-3/
LOCATION:Hřiště RK Petrovice
CATEGORIES:U16
END:VEVENT
END:VCALENDAR