BEGIN:VCALENDAR
VERSION:2.0
PRODID:-//Sparta Rugby - ECPv6.15.20//NONSGML v1.0//EN
CALSCALE:GREGORIAN
METHOD:PUBLISH
X-ORIGINAL-URL:https://spartarugby.cz
X-WR-CALDESC:Akce na Sparta Rugby
REFRESH-INTERVAL;VALUE=DURATION:PT1H
X-Robots-Tag:noindex
X-PUBLISHED-TTL:PT1H
BEGIN:VTIMEZONE
TZID:Europe/Prague
BEGIN:DAYLIGHT
TZOFFSETFROM:+0100
TZOFFSETTO:+0200
TZNAME:CEST
DTSTART:20250330T010000
END:DAYLIGHT
BEGIN:STANDARD
TZOFFSETFROM:+0200
TZOFFSETTO:+0100
TZNAME:CET
DTSTART:20251026T010000
END:STANDARD
BEGIN:DAYLIGHT
TZOFFSETFROM:+0100
TZOFFSETTO:+0200
TZNAME:CEST
DTSTART:20260329T010000
END:DAYLIGHT
BEGIN:STANDARD
TZOFFSETFROM:+0200
TZOFFSETTO:+0100
TZNAME:CET
DTSTART:20261025T010000
END:STANDARD
BEGIN:DAYLIGHT
TZOFFSETFROM:+0100
TZOFFSETTO:+0200
TZNAME:CEST
DTSTART:20270328T010000
END:DAYLIGHT
BEGIN:STANDARD
TZOFFSETFROM:+0200
TZOFFSETTO:+0100
TZNAME:CET
DTSTART:20271031T010000
END:STANDARD
END:VTIMEZONE
BEGIN:VEVENT
DTSTART;TZID=Europe/Prague:20260329T130000
DTEND;TZID=Europe/Prague:20260329T150000
DTSTAMP:20260426T031549
CREATED:20260318T010541Z
LAST-MODIFIED:20260329T122040Z
UID:10005700-1774789200-1774796400@spartarugby.cz
SUMMARY:Rugby Club JIMI Vyškov - Rugby Club Sparta Praha
DESCRIPTION:
URL:https://spartarugby.cz/udalost/rugby-club-jimi-vyskov-rugby-club-sparta-praha-5/
LOCATION:Hřiště RC Vyškov\, Areál Jana Navrátila Purkyňova 419\, Vyškov\, 68201\, Česká republika
CATEGORIES:U14
END:VEVENT
END:VCALENDAR